BEGIN:VCALENDAR
VERSION:2.0
PRODID:-//eventon.com NONSGML v1.0//EN
CALSCALE:GREGORIAN
METHOD:PUBLISH
BEGIN:VEVENT
UID:69ed47e29351a
DTSTAMP:20260425T230154Z
DTSTART:20180929T170000Z
DTEND:20180929T190000Z
LOCATION:Bibliothèque Cujas
SUMMARY:Atelier « Annonces légales »
DESCRIPTION:Atelier « Annonces légales »\nhttps://www.juriconnexion.fr
 /agenda/atelier-annonces-legales/
URL:https://www.juriconnexion.fr/agenda/atelier-annonces-legales/
END:VEVENT
END:VCALENDAR