BEGIN:VCALENDAR
VERSION:2.0
PRODID:-//eventon.com NONSGML v1.0//EN
CALSCALE:GREGORIAN
METHOD:PUBLISH
BEGIN:VEVENT
UID:69ed322278009
DTSTAMP:20260425T212906Z
DTSTART:20171017T090000Z
DTEND:20171017T123000Z
LOCATION:
SUMMARY:Â«Â Rencontre avecÂ Â» sur la Gestion documentaire de la rÃ©forme du droit des contrats
DESCRIPTION:chez Clifford Chance Pour s&rsquo;inscrire Ã  la manifestationÂ
  :Â Lien vers le bulletin d&rsquo;inscription\nhttps://www.juriconnexion.fr
 /agenda/rencontre-avec-sur-la-gestion-documentaire-de-la-reforme-du-droit-d
 es-contrats/
URL:https://www.juriconnexion.fr/agenda/rencontre-avec-sur-la-gestion-documentaire-de-la-reforme-du-droit-des-contrats/
END:VEVENT
END:VCALENDAR