BEGIN:VCALENDAR
VERSION:2.0
PRODID:-//eventon.com NONSGML v1.0//EN
CALSCALE:GREGORIAN
METHOD:PUBLISH
BEGIN:VEVENT
UID:69ed1c16729c8
DTSTAMP:20260425T195502Z
DTSTART:20170814
DTEND:20170815
LOCATION:Les Docks de Paris
SUMMARY:Journée Juriconnexion
DESCRIPTION:au Salon de la Legal Tech à Aubervilliers\nhttps://www.juricon
 nexion.fr/agenda/journee-juriconnexion/
URL:https://www.juriconnexion.fr/agenda/journee-juriconnexion/
END:VEVENT
END:VCALENDAR