BEGIN:VCALENDAR
VERSION:2.0
PRODID:-//eventon.com NONSGML v1.0//EN
CALSCALE:GREGORIAN
METHOD:PUBLISH
BEGIN:VEVENT
UID:69ed3232b3d78
DTSTAMP:20260425T212922Z
DTSTART:20180329
DTEND:20180330
LOCATION:
SUMMARY:Assemblée Générale
DESCRIPTION:Tenue de l&rsquo;Assemblée Générale de Juriconnexion\nhttps:
 //www.juriconnexion.fr/agenda/assemblee-generale/
URL:https://www.juriconnexion.fr/agenda/assemblee-generale/
END:VEVENT
END:VCALENDAR