BEGIN:VCALENDAR
VERSION:2.0
PRODID:-//eventon.com NONSGML v1.0//EN
CALSCALE:GREGORIAN
METHOD:PUBLISH
BEGIN:VEVENT
UID:69ed484466838
DTSTAMP:20260425T230332Z
DTSTART:20180608
DTEND:20180609
LOCATION:
SUMMARY:Journées 2018 de l'ABJS
DESCRIPTION:&lsquo;Participation de Juriconnexion aux Journées 2018 de l&r
 squo;ABJS à Fribourg (Suisse)\nhttps://www.juriconnexion.fr/agenda/journee
 s-2018-de-labjs/
URL:https://www.juriconnexion.fr/agenda/journees-2018-de-labjs/
END:VEVENT
END:VCALENDAR